BEGIN:VCALENDAR
VERSION:2.0
PRODID:-//American Innovations - ECPv6.15.20//NONSGML v1.0//EN
CALSCALE:GREGORIAN
METHOD:PUBLISH
X-WR-CALNAME:American Innovations
X-ORIGINAL-URL:https://www.aiworldwide.com
X-WR-CALDESC:Events for American Innovations
REFRESH-INTERVAL;VALUE=DURATION:PT1H
X-Robots-Tag:noindex
X-PUBLISHED-TTL:PT1H
BEGIN:VTIMEZONE
TZID:UTC
BEGIN:STANDARD
TZOFFSETFROM:+0000
TZOFFSETTO:+0000
TZNAME:UTC
DTSTART:20250101T000000
END:STANDARD
END:VTIMEZONE
BEGIN:VEVENT
DTSTART;VALUE=DATE:20260621
DTEND;VALUE=DATE:20260625
DTSTAMP:20260423T075552
CREATED:20260408T182358Z
LAST-MODIFIED:20260408T182911Z
UID:10000213-1782000000-1782345599@www.aiworldwide.com
SUMMARY:AWWA American Water Works Annual Conference & Expo
DESCRIPTION:We’re excited to attend the AWWA Annual Conference & Expo (ACE26) in Washington\, D.C.\, from June 21–24\, 2026. \nAs the premier gathering for “Water Heroes\,” ACE26 is the ultimate forum for tackling the industry’s biggest challenges. While we won’t have a booth this year\, our team will be on the ground\, connecting with peers and staying at the forefront of water technology and infrastructure protection.
URL:https://www.aiworldwide.com/event/awwa-american-water-works-annual-conference-expo/
LOCATION:Walter E. Washington D.C. Convention Center\, 801 Allen Y. Lew Place NW\, Washington D.C.\, 20001\, United States
CATEGORIES:In-Person
ATTACH;FMTTYPE=image/jpeg:https://www.aiworldwide.com/wp-content/uploads/2026/04/awwa-american-water-works-conference-0626.jpg
END:VEVENT
END:VCALENDAR