BEGIN:VCALENDAR
VERSION:2.0
PRODID:-//American Innovations - ECPv6.15.20//NONSGML v1.0//EN
CALSCALE:GREGORIAN
METHOD:PUBLISH
X-ORIGINAL-URL:https://www.aiworldwide.com
X-WR-CALDESC:Events for American Innovations
REFRESH-INTERVAL;VALUE=DURATION:PT1H
X-Robots-Tag:noindex
X-PUBLISHED-TTL:PT1H
BEGIN:VTIMEZONE
TZID:UTC
BEGIN:STANDARD
TZOFFSETFROM:+0000
TZOFFSETTO:+0000
TZNAME:UTC
DTSTART:20250101T000000
END:STANDARD
END:VTIMEZONE
BEGIN:VEVENT
DTSTART;VALUE=DATE:20260624
DTEND;VALUE=DATE:20260627
DTSTAMP:20260420T130513
CREATED:20260408T185015Z
LAST-MODIFIED:20260408T185015Z
UID:10000215-1782259200-1782518399@www.aiworldwide.com
SUMMARY:MANGO Pipeline Safety Seminar
DESCRIPTION:We’re heading to the Lake of the Ozarks for the MANGO Pipeline Safety Seminar\, hosted by the Missouri Association of Natural Gas Operators from June 24–26\, 2026. \nThis seminar is a cornerstone for Missouri’s natural gas community\, focusing on outreach and education to improve public safety. Our team will be attending to engage with local operators and stay updated on the latest regulatory activities and safety innovations shaping the industry.
URL:https://www.aiworldwide.com/event/mango-pipeline-safety-seminar/
LOCATION:Margaritaville Lake Resort Lake of the Ozarks\, 494 Tan Tar A Dr\, Osage Beach\, MO\, 65065\, United States
CATEGORIES:In-Person
ATTACH;FMTTYPE=image/jpeg:https://www.aiworldwide.com/wp-content/uploads/2026/04/missouri-association-natural-gas-operators.jpg
END:VEVENT
END:VCALENDAR