BEGIN:VCALENDAR
VERSION:2.0
PRODID:-//American Innovations - ECPv6.15.20//NONSGML v1.0//EN
CALSCALE:GREGORIAN
METHOD:PUBLISH
X-WR-CALNAME:American Innovations
X-ORIGINAL-URL:https://www.aiworldwide.com
X-WR-CALDESC:Events for American Innovations
REFRESH-INTERVAL;VALUE=DURATION:PT1H
X-Robots-Tag:noindex
X-PUBLISHED-TTL:PT1H
BEGIN:VTIMEZONE
TZID:UTC
BEGIN:STANDARD
TZOFFSETFROM:+0000
TZOFFSETTO:+0000
TZNAME:UTC
DTSTART:20240101T000000
END:STANDARD
END:VTIMEZONE
BEGIN:VEVENT
DTSTART;TZID=UTC:20251204T090000
DTEND;TZID=UTC:20251204T093000
DTSTAMP:20260420T075255
CREATED:20241119T222132Z
LAST-MODIFIED:20251110T210153Z
UID:10000173-1764838800-1764840600@www.aiworldwide.com
SUMMARY:[THU 12/04/25\, 9 AM Central] Virtual Brew: Unlocking Real-Time Pipeline Insights with the Bullhorn Web Open API
DESCRIPTION:Join our online coffee talk the third Thursday of each month at 9am CT. Grab a cup of coffee\, join your friends for some shop talk\, and come away with valuable tech tips. These 30-minute\, informal sessions offer new ways for you to get short and free snackable learnings you can start using today.
URL:https://www.aiworldwide.com/event/thu-12-04-25-9-am-central-virtual-brew-tbd/
LOCATION:Digital Webinar
ATTACH;FMTTYPE=image/jpeg:https://www.aiworldwide.com/wp-content/uploads/2022/09/ai-virtual-brew.jpg
END:VEVENT
BEGIN:VEVENT
DTSTART;VALUE=DATE:20260120
DTEND;VALUE=DATE:20260122
DTSTAMP:20260420T075255
CREATED:20250826T192834Z
LAST-MODIFIED:20251112T162147Z
UID:10000192-1768867200-1769039999@www.aiworldwide.com
SUMMARY:AMPP Omaha Chapter Short Course
DESCRIPTION:This 2-day course will provide a multitude of topics from cathodic protection\, AC corrosion\, OQ\, rectifiers\, coatings and much more presented by industry experts. Exhibitors will display their latest technology and corrosion solutions. Network with peers.
URL:https://www.aiworldwide.com/event/ampp-omaha-chapter-short-course-2/
LOCATION:Scott Conference Center\, 6450 Pine St.\, Omaha\, 68106\, United States
CATEGORIES:In-Person
END:VEVENT
BEGIN:VEVENT
DTSTART;VALUE=DATE:20260120
DTEND;VALUE=DATE:20260123
DTSTAMP:20260420T075255
CREATED:20250826T194503Z
LAST-MODIFIED:20251112T162411Z
UID:10000194-1768867200-1769126399@www.aiworldwide.com
SUMMARY:AMPP Northeast Corrosion Conference
DESCRIPTION:Come see us at 20th Annual Northeast Corrosion Conference!
URL:https://www.aiworldwide.com/event/ampp-northeast-corrosion-conference/
LOCATION:Sheraton Springfield Monarch\, One Monarch Place\, Springfield\, MA\, 01144\, United States
CATEGORIES:In-Person
ATTACH;FMTTYPE=image/jpeg:https://www.aiworldwide.com/wp-content/uploads/2023/11/Northeast-Corrosion-Conference.jpg
END:VEVENT
BEGIN:VEVENT
DTSTART;VALUE=DATE:20260120
DTEND;VALUE=DATE:20260124
DTSTAMP:20260420T075255
CREATED:20250826T194004Z
LAST-MODIFIED:20251112T160210Z
UID:10000193-1768867200-1769212799@www.aiworldwide.com
SUMMARY:AMPP Rocky Mountain Chapter Short Course
DESCRIPTION:
URL:https://www.aiworldwide.com/event/ampp-rocky-mountain-shortcourse-2/
LOCATION:DoubleTree by Hilton\, 1775 E. Cheyenne Mountain Boulevard\, Colorado Springs\, CO\, 80906\, United States
CATEGORIES:In-Person
END:VEVENT
BEGIN:VEVENT
DTSTART;VALUE=DATE:20260126
DTEND;VALUE=DATE:20260129
DTSTAMP:20260420T075255
CREATED:20250826T194916Z
LAST-MODIFIED:20251112T164459Z
UID:10000195-1769385600-1769644799@www.aiworldwide.com
SUMMARY:AMPP Twin Cities Chapter 10K Lakes Corrosion Control Seminar
DESCRIPTION:Join the American Innovations team at the AMPP Twin Cities 32nd Annual 10\,000 Lakes Pipeline Corrosion Control Seminar. You can expect networking and educational opportunities. This annual event is a great investment in your professional development whether you’re looking to enhance your knowledge\, expand your network\, or explore new technologies.
URL:https://www.aiworldwide.com/event/ampp-twin-cities-10k-lakes-corrosion-control-seminar/
LOCATION:JW Marriott Minneapolis Mall of America\, 2141 Lindau Ln\, Bloomington\, MN\, 55425\, United States
CATEGORIES:In-Person
END:VEVENT
BEGIN:VEVENT
DTSTART;VALUE=DATE:20260204
DTEND;VALUE=DATE:20260206
DTSTAMP:20260420T075255
CREATED:20250826T201706Z
LAST-MODIFIED:20251112T162826Z
UID:10000196-1770163200-1770335999@www.aiworldwide.com
SUMMARY:Stockyard Short Course
DESCRIPTION:Network and learn from industry professionals amidst the lively Fort Worth rodeo season.
URL:https://www.aiworldwide.com/event/stockyard-short-course-2026/
LOCATION:Stockyard Station\, 140 East Exchange Avenue\, Fort Worth\, TX\, 76164\, United States
CATEGORIES:In-Person
ATTACH;FMTTYPE=image/jpeg:https://www.aiworldwide.com/wp-content/uploads/2022/11/stockyard-short-course.jpg
END:VEVENT
BEGIN:VEVENT
DTSTART;TZID=UTC:20260204T080000
DTEND;TZID=UTC:20260205T170000
DTSTAMP:20260420T075255
CREATED:20250826T202530Z
LAST-MODIFIED:20251112T163055Z
UID:10000197-1770192000-1770310800@www.aiworldwide.com
SUMMARY:AMPP Philadelphia Chapter Liberty Bell Corrosion Course
DESCRIPTION:Join American Innovations at the 2026 Liberty Bell Corrosion Course! The Liberty Bell Corrosion Course (LBCC) provides systematic and progressive coverage in developing corrosion technology as well as “state of the art” expertise presented by recognized specialists from industry\, government\, and scholastic areas.
URL:https://www.aiworldwide.com/event/ampp-philadelphia-liberty-bell-corrosion-course/
LOCATION:Normandy Farm Hotel and Conference Center\, 1401 Morris Road (Intersection of Morris Road & Route 202) Blue Bell\, PA 19422\, Blue Bell\, PA\, 19422\, United States
CATEGORIES:In-Person
ATTACH;FMTTYPE=image/jpeg:https://www.aiworldwide.com/wp-content/uploads/2022/11/Liberty-Bell-Corrosion-Short-Course.jpg
END:VEVENT
BEGIN:VEVENT
DTSTART;VALUE=DATE:20260209
DTEND;VALUE=DATE:20260213
DTSTAMP:20260420T075255
CREATED:20250826T203221Z
LAST-MODIFIED:20260211T215153Z
UID:10000198-1770595200-1770940799@www.aiworldwide.com
SUMMARY:AMPP Alberta Conference
DESCRIPTION:American Innovations is excited to participate in the AMPP Alberta Conference\, taking place February 9–12\, 2026\, at the BMO Centre in Calgary. This year’s theme\, “Infrastructure Resilience to Corrosion during Energy Transition\,” highlights Alberta’s role as a hub for innovation in carbon capture and hydrogen. \nJoin us at this premier event for the province’s corrosion and materials protection industry to experience: \n\nLeading-Edge Education: Gain insights from technical sessions and tutorials focused on asset integrity and sustainability.\nAsset Management Strategies: Explore how aging infrastructure can be adapted to meet the challenges of the energy transition.\nExpansive Tradeshow: Visit the exhibitor hall to discover the latest products and technologies in corrosion control.\nProfessional Networking: Connect with industry leaders and peers during events like the Calgary Carnivale.\n\nWe look forward to meeting with you in Calgary to discuss how we can support your goals for the 2026 survey season!
URL:https://www.aiworldwide.com/event/ampp-alberta-conference-2/
LOCATION:BMO Centre\, 1912 Flores Ladue Parade SE\,\, Calgary\, Alberta\, T2G 2W1\, Canada
CATEGORIES:In-Person
ATTACH;FMTTYPE=image/jpeg:https://www.aiworldwide.com/wp-content/uploads/2025/08/ampp-calgary-chapter.jpg
END:VEVENT
BEGIN:VEVENT
DTSTART;VALUE=DATE:20260217
DTEND;VALUE=DATE:20260221
DTSTAMP:20260420T075255
CREATED:20250826T203734Z
LAST-MODIFIED:20260211T214709Z
UID:10000199-1771286400-1771631999@www.aiworldwide.com
SUMMARY:AMPP Big Sky Short Course
DESCRIPTION:American Innovations is excited to head to the AMPP Big Sky Short Course in Fort Wayne\, Indiana\, from February 17-20\, 2026. This event is a premier gathering for corrosion professionals in the Big Sky region to share technical knowledge and prepare for the upcoming 2026 survey season. \nJoin us at the Grand Wayne Convention Center for a productive week of learning and networking\, featuring: \n\nTechnical Education: Gain insights from expert-led sessions on the latest advancements in corrosion control and pipeline integrity.\nHands-On Learning: Participate in practical training and demonstrations designed to enhance your field skills.\nProfessional Networking: Connect with industry peers and our team to discuss strategies for a successful 2026.\n\nWe look forward to seeing you there!
URL:https://www.aiworldwide.com/event/ampp-big-sky-short-course/
LOCATION:Grand Wayne Convention Center\, 120 W Jefferson Blvd\, Fort Wayne\, IN\, 46802\, United States
CATEGORIES:In-Person
ATTACH;FMTTYPE=image/jpeg:https://www.aiworldwide.com/wp-content/uploads/2025/08/ampp-big-sky-chapter-r.jpg
END:VEVENT
BEGIN:VEVENT
DTSTART;VALUE=DATE:20260219
DTEND;VALUE=DATE:20260221
DTSTAMP:20260420T075255
CREATED:20250826T204823Z
LAST-MODIFIED:20260211T214012Z
UID:10000200-1771459200-1771631999@www.aiworldwide.com
SUMMARY:AMPP Eagle Ford Short Course
DESCRIPTION:American Innovations is headed to South Texas for the 2026 Eagle Ford Short Course & Golf Tournament\, happening February 19-20. This event is a key gathering for corrosion professionals in the Eagle Ford region to share knowledge and prepare for the upcoming year. \nJoin us for a mix of technical education and networking\, including: \n\nTechnical Short Course: Engage with expert-led presentations on the latest in corrosion control and pipeline integrity.\nNetworking Golf Tournament: Connect with industry peers in a relaxed setting before the technical sessions begin.\nExpert Insights: Meet with our team to discuss how we can support your 2026 survey season goals.\n\nWe look forward to seeing you there!
URL:https://www.aiworldwide.com/event/ampp-eagle-ford-short-course/
LOCATION:New Braunfels Convention Center\, 375 S. Castell Avenue\, New Braunfels\, Texas\, 78130\, United States
CATEGORIES:In-Person
ATTACH;FMTTYPE=image/png:https://www.aiworldwide.com/wp-content/uploads/2025/08/ampp-eagleford-chapter.png
END:VEVENT
BEGIN:VEVENT
DTSTART;TZID=UTC:20260219T090000
DTEND;TZID=UTC:20260219T093000
DTSTAMP:20260420T075255
CREATED:20260203T212716Z
LAST-MODIFIED:20260209T212643Z
UID:10000206-1771491600-1771493400@www.aiworldwide.com
SUMMARY:Virtual Brew: Get Survey Ready: How to Eliminate Field Delays Before You Deploy
DESCRIPTION:Join our online coffee talk the third Thursday of each month at 9am CT. Grab a cup of coffee\, join your friends for some shop talk\, and come away with valuable tech tips. These 30-minute\, informal sessions offer new ways for you to get short and free snackable learnings you can start using today. \nREGISTER NOW
URL:https://www.aiworldwide.com/event/virtual-brew-ready-for-survey-season-0226/
LOCATION:Digital Webinar
CATEGORIES:Virtual
ATTACH;FMTTYPE=image/jpeg:https://www.aiworldwide.com/wp-content/uploads/2022/09/ai-virtual-brew.jpg
END:VEVENT
BEGIN:VEVENT
DTSTART;VALUE=DATE:20260224
DTEND;VALUE=DATE:20260227
DTSTAMP:20260420T075255
CREATED:20241113T150739Z
LAST-MODIFIED:20260217T193600Z
UID:10000160-1771891200-1772150399@www.aiworldwide.com
SUMMARY:Indiana Corrosion Society Underground Corrosion Short Course
DESCRIPTION:American Innovations is proud to celebrate 65 years of industry excellence at the 2026 Indiana Corrosion Society Underground Corrosion Short Course (UCSC)\, held February 24-26 in Fort Wayne\, Indiana. This milestone event brings together over 350 technicians and experts for a deep dive into the latest corrosion management strategies. \nJoin us at the Grand Wayne Convention Center for three days of intensive learning and networking\, featuring: \n\nComprehensive Education: Choose from 12 specialized course tracks\, including the perennially popular Rectifier Course.\nHands-On Training: Learn directly from seasoned professionals through practical demonstrations and interactive sessions.\nProfessional Development: Earn PDH credits to maintain your certifications while expanding your technical expertise.\nIndustry Networking: Connect with peers from across the Northeast during the Exhibitor Reception and the 65th-anniversary celebration events.\n\nWe look forward to seeing you in Fort Wayne as we kick off the 2026 survey season!
URL:https://www.aiworldwide.com/event/indiana-corrosion-society-underground-corrosion-short-course-2/
LOCATION:Grand Wayne Convention Center\, 120 W Jefferson Blvd\, Fort Wayne\, IN\, 46802\, United States
CATEGORIES:In-Person
ATTACH;FMTTYPE=image/png:https://www.aiworldwide.com/wp-content/uploads/2024/11/underground-corrosion-short-course-0226.png
END:VEVENT
END:VCALENDAR