BEGIN:VCALENDAR
VERSION:2.0
PRODID:-//American Innovations - ECPv6.15.20//NONSGML v1.0//EN
CALSCALE:GREGORIAN
METHOD:PUBLISH
X-WR-CALNAME:American Innovations
X-ORIGINAL-URL:https://www.aiworldwide.com
X-WR-CALDESC:Events for American Innovations
REFRESH-INTERVAL;VALUE=DURATION:PT1H
X-Robots-Tag:noindex
X-PUBLISHED-TTL:PT1H
BEGIN:VTIMEZONE
TZID:UTC
BEGIN:STANDARD
TZOFFSETFROM:+0000
TZOFFSETTO:+0000
TZNAME:UTC
DTSTART:20240101T000000
END:STANDARD
END:VTIMEZONE
BEGIN:VEVENT
DTSTART;VALUE=DATE:20250513
DTEND;VALUE=DATE:20250516
DTSTAMP:20260422T142628
CREATED:20241113T192536Z
LAST-MODIFIED:20250417T170105Z
UID:10000162-1747094400-1747353599@www.aiworldwide.com
SUMMARY:Appalachian Underground Corrosion Short Course
DESCRIPTION:Join American Innovations at  Appalachian Underground Corrosion Short Course!
URL:https://www.aiworldwide.com/event/appalachian-underground-corrosion-short-course-2/
LOCATION:West Virginia University\, 1500 University Ave\, Morgantown\, WV 26506
ATTACH;FMTTYPE=image/jpeg:https://www.aiworldwide.com/wp-content/uploads/2024/11/aucsc-0525.jpg
ORGANIZER;CN="Appalachian Underground Corrosion Short Course (AUCSC)":MAILTO:info@aucsc.com
END:VEVENT
BEGIN:VEVENT
DTSTART;TZID=UTC:20250515T090000
DTEND;TZID=UTC:20250515T093000
DTSTAMP:20260422T142628
CREATED:20241119T221113Z
LAST-MODIFIED:20250428T202303Z
UID:10000168-1747299600-1747301400@www.aiworldwide.com
SUMMARY:[THU 05/15/25\, 9 AM Central] Virtual Brew: Spatial Intelligence: Integrating GPS and Data for Smarter Decisions
DESCRIPTION:Join our online coffee talk the third Thursday of each month at 9am CT. Grab a cup of coffee\, join your friends for some shop talk\, and come away with valuable tech tips. These 30-minute\, informal sessions offer new ways for you to get short and free snackable learnings you can start using today.
URL:https://www.aiworldwide.com/event/thu-05-15-25-9-am-central-virtual-brew-tbd/
LOCATION:Digital Webinar
ATTACH;FMTTYPE=image/jpeg:https://www.aiworldwide.com/wp-content/uploads/2022/09/ai-virtual-brew.jpg
END:VEVENT
END:VCALENDAR