BEGIN:VCALENDAR
VERSION:2.0
PRODID:-//American Innovations - ECPv6.15.20//NONSGML v1.0//EN
CALSCALE:GREGORIAN
METHOD:PUBLISH
X-ORIGINAL-URL:https://www.aiworldwide.com
X-WR-CALDESC:Events for American Innovations
REFRESH-INTERVAL;VALUE=DURATION:PT1H
X-Robots-Tag:noindex
X-PUBLISHED-TTL:PT1H
BEGIN:VTIMEZONE
TZID:UTC
BEGIN:STANDARD
TZOFFSETFROM:+0000
TZOFFSETTO:+0000
TZNAME:UTC
DTSTART:20240101T000000
END:STANDARD
END:VTIMEZONE
BEGIN:VEVENT
DTSTART;VALUE=DATE:20250406
DTEND;VALUE=DATE:20250411
DTSTAMP:20260422T092109
CREATED:20241113T154411Z
LAST-MODIFIED:20250408T204802Z
UID:10000157-1743897600-1744329599@www.aiworldwide.com
SUMMARY:AMPP Annual Conference & Expo 2025
DESCRIPTION:Join American Innovations at the AMPP Annual Conference and Expo in Nashville TN. Stop by booth number 1901! \nRegister for FREE training with American Innovations during the AMPP Annual Conference on Monday\, April 7. \nLearn more. \n 
URL:https://www.aiworldwide.com/event/ampp-annual-conference-expo-2025/
LOCATION:New Orleans Ernest N. Morial Convention Center\, 900 Convention Center Blvd\, New Orleans\, Louisiana\, 70130
CATEGORIES:In-Person
ATTACH;FMTTYPE=image/jpeg:https://www.aiworldwide.com/wp-content/uploads/2022/11/ampp-ace.jpg
END:VEVENT
END:VCALENDAR