BEGIN:VCALENDAR
VERSION:2.0
PRODID:-//American Innovations - ECPv6.15.20//NONSGML v1.0//EN
CALSCALE:GREGORIAN
METHOD:PUBLISH
X-WR-CALNAME:American Innovations
X-ORIGINAL-URL:https://www.aiworldwide.com
X-WR-CALDESC:Events for American Innovations
REFRESH-INTERVAL;VALUE=DURATION:PT1H
X-Robots-Tag:noindex
X-PUBLISHED-TTL:PT1H
BEGIN:VTIMEZONE
TZID:UTC
BEGIN:STANDARD
TZOFFSETFROM:+0000
TZOFFSETTO:+0000
TZNAME:UTC
DTSTART:20230101T000000
END:STANDARD
END:VTIMEZONE
BEGIN:VEVENT
DTSTART;TZID=UTC:20240620T090000
DTEND;TZID=UTC:20240620T093000
DTSTAMP:20260422T135036
CREATED:20240503T142418Z
LAST-MODIFIED:20240530T165610Z
UID:10000135-1718874000-1718875800@www.aiworldwide.com
SUMMARY:[THU 06/20/24\, 9 AM Central] Virtual Brew: Top 5 Support Questions and How to Avoid Them
DESCRIPTION:Join our online coffee talk the third Thursday of each month at 9am CT. Grab a cup of coffee\, join your friends for some shop talk\, and come away with valuable tech tips. These 30-minute\, informal sessions offer new ways for you to get short and free snackable learnings you can start using today.
URL:https://www.aiworldwide.com/event/thu-06-20-24-9-am-central-virtual-brew/
LOCATION:Digital Webinar
CATEGORIES:Featured,Virtual
ATTACH;FMTTYPE=image/jpeg:https://www.aiworldwide.com/wp-content/uploads/2022/09/ai-virtual-brew.jpg
ORGANIZER;CN="American Innovations":MAILTO:sales@aiworldwide.com
END:VEVENT
END:VCALENDAR