BEGIN:VCALENDAR
VERSION:2.0
PRODID:-//American Innovations - ECPv6.15.20//NONSGML v1.0//EN
CALSCALE:GREGORIAN
METHOD:PUBLISH
X-WR-CALNAME:American Innovations
X-ORIGINAL-URL:https://www.aiworldwide.com
X-WR-CALDESC:Events for American Innovations
REFRESH-INTERVAL;VALUE=DURATION:PT1H
X-Robots-Tag:noindex
X-PUBLISHED-TTL:PT1H
BEGIN:VTIMEZONE
TZID:UTC
BEGIN:STANDARD
TZOFFSETFROM:+0000
TZOFFSETTO:+0000
TZNAME:UTC
DTSTART:20230101T000000
END:STANDARD
END:VTIMEZONE
BEGIN:VEVENT
DTSTART;VALUE=DATE:20240428
DTEND;VALUE=DATE:20240503
DTSTAMP:20260422T123048
CREATED:20221129T160908Z
LAST-MODIFIED:20240130T201036Z
UID:10000083-1714262400-1714694399@www.aiworldwide.com
SUMMARY:AGA Operations Conference
DESCRIPTION:Join American Innovations and CartoPac Enterprise at the AGA Operations Conference.
URL:https://www.aiworldwide.com/event/aga-operations-conference/
LOCATION:Hyatt Regency Seattle\, 808 Howell Street\, Seattle\, WA\, 98101\, United States
CATEGORIES:In-Person
ATTACH;FMTTYPE=image/jpeg:https://www.aiworldwide.com/wp-content/uploads/2022/11/aga-operations-conference-0424.jpg
END:VEVENT
END:VCALENDAR