BEGIN:VCALENDAR
VERSION:2.0
PRODID:-//American Innovations - ECPv6.15.20//NONSGML v1.0//EN
CALSCALE:GREGORIAN
METHOD:PUBLISH
X-WR-CALNAME:American Innovations
X-ORIGINAL-URL:https://www.aiworldwide.com
X-WR-CALDESC:Events for American Innovations
REFRESH-INTERVAL;VALUE=DURATION:PT1H
X-Robots-Tag:noindex
X-PUBLISHED-TTL:PT1H
BEGIN:VTIMEZONE
TZID:UTC
BEGIN:STANDARD
TZOFFSETFROM:+0000
TZOFFSETTO:+0000
TZNAME:UTC
DTSTART:20220101T000000
END:STANDARD
END:VTIMEZONE
BEGIN:VEVENT
DTSTART;VALUE=DATE:20230227
DTEND;VALUE=DATE:20230302
DTSTAMP:20260421T162556
CREATED:20221129T155052Z
LAST-MODIFIED:20221129T155052Z
UID:10000081-1677456000-1677715199@www.aiworldwide.com
SUMMARY:Underground Corrosion Short Course
DESCRIPTION:Join American Innovations at the Underground Corrosion Short Course hosted by the Indiana Corrosion Society.
URL:https://www.aiworldwide.com/event/underground-corrosion-short-course/
LOCATION:Grand Wayne Convention Center\, 120 W Jefferson Blvd\, Fort Wayne\, IN\, 46802\, United States
CATEGORIES:In-Person
ATTACH;FMTTYPE=image/jpeg:https://www.aiworldwide.com/wp-content/uploads/2022/11/Ft-Wayne-Indiana-Underground-Corrosion-Short-Course.jpg
END:VEVENT
BEGIN:VEVENT
DTSTART;TZID=UTC:20230228T080000
DTEND;TZID=UTC:20230302T170000
DTSTAMP:20260421T162556
CREATED:20221214T175036Z
LAST-MODIFIED:20221214T175122Z
UID:10000098-1677571200-1677776400@www.aiworldwide.com
SUMMARY:Barton CC 35th Annual Corrosion Control Seminar
DESCRIPTION:Join American Innovations at the 35th Annual Corrosion Control Seminar hosted by Barton Community College!
URL:https://www.aiworldwide.com/event/barton-cc-35th-annual-corrosion-control-seminar/
LOCATION:Barton Community College\, 245 NE 30 Rd.\, Great Bend\, KS\, 67530
CATEGORIES:In-Person
ATTACH;FMTTYPE=image/jpeg:https://www.aiworldwide.com/wp-content/uploads/2022/12/barton-college-event.jpg
END:VEVENT
END:VCALENDAR